BEGIN:VCALENDAR
VERSION:2.0
PRODID:-//wp-events-plugin.com//6.6.4.4//EN
TZID:Europe/Prague
X-WR-TIMEZONE:Europe/Prague
BEGIN:VEVENT
UID:36@svuk.cz
DTSTART;TZID=Europe/Prague:20250401T000000
DTEND;TZID=Europe/Prague:20250429T000000
DTSTAMP:20250331T093500Z
URL:https://svuk.cz/udalosti/jana-krejzova-pod-hladinou/
SUMMARY:Jana Krejzová - Pod Hladinou
DESCRIPTION:\nKulturní dům v Holicích\n\n\n\n\n\n\n
ATTACH;FMTTYPE=image/jpeg:https://svuk.cz/wp-content/uploads/2025/03/pod-h
 ladinou-plakat.jpg
CATEGORIES:Výstavy členů
END:VEVENT
BEGIN:VTIMEZONE
TZID:Europe/Prague
X-LIC-LOCATION:Europe/Prague
BEGIN:DAYLIGHT
DTSTART:20250330T030000
TZOFFSETFROM:+0100
TZOFFSETTO:+0200
TZNAME:CEST
END:DAYLIGHT
END:VTIMEZONE
END:VCALENDAR